BEGIN:VCALENDAR
VERSION:2.0
PRODID:-//kisfaludy.hu - ECPv6.15.17.1//NONSGML v1.0//EN
CALSCALE:GREGORIAN
METHOD:PUBLISH
X-WR-CALNAME:kisfaludy.hu
X-ORIGINAL-URL:https://kisfaludy.hu
X-WR-CALDESC:Események kisfaludy.hu
REFRESH-INTERVAL;VALUE=DURATION:PT1H
X-Robots-Tag:noindex
X-PUBLISHED-TTL:PT1H
BEGIN:VTIMEZONE
TZID:UTC
BEGIN:STANDARD
TZOFFSETFROM:+0000
TZOFFSETTO:+0000
TZNAME:UTC
DTSTART:20250101T000000
END:STANDARD
END:VTIMEZONE
BEGIN:VEVENT
DTSTART;TZID=UTC:20260116T170000
DTEND;TZID=UTC:20260116T190000
DTSTAMP:20260422T123236
CREATED:20260113T082653Z
LAST-MODIFIED:20260206T081237Z
UID:7004-1768582800-1768590000@kisfaludy.hu
SUMMARY:Lents Dorottya hangversenye
DESCRIPTION:
URL:https://kisfaludy.hu/event/lents-dorottya-hangversenye/
LOCATION:Kisfaludy Sándor Gimnázium\, Koll és AMI\, Mártírok útja 1-3.\, Sümeg\, Veszprém\, 8330\, Hungary
CATEGORIES:Zenesikola
END:VEVENT
BEGIN:VEVENT
DTSTART;TZID=UTC:20260122T180000
DTEND;TZID=UTC:20260122T200000
DTSTAMP:20260422T123236
CREATED:20251017T112445Z
LAST-MODIFIED:20260108T134127Z
UID:6597-1769104800-1769112000@kisfaludy.hu
SUMMARY:Corpus Trombone Quartet
DESCRIPTION:
URL:https://kisfaludy.hu/event/corpus-trombone-quartet/
LOCATION:Hotel Kapitány Wellness ****\, Tóth Tivadar utca 19.\, Sümeg\, Veszprém\, 8330\, Hungary
CATEGORIES:Zenesikola
END:VEVENT
END:VCALENDAR