BEGIN:VCALENDAR
VERSION:2.0
PRODID:-//kisfaludy.hu - ECPv6.15.17.1//NONSGML v1.0//EN
CALSCALE:GREGORIAN
METHOD:PUBLISH
X-ORIGINAL-URL:https://kisfaludy.hu
X-WR-CALDESC:Események kisfaludy.hu
REFRESH-INTERVAL;VALUE=DURATION:PT1H
X-Robots-Tag:noindex
X-PUBLISHED-TTL:PT1H
BEGIN:VTIMEZONE
TZID:UTC
BEGIN:STANDARD
TZOFFSETFROM:+0000
TZOFFSETTO:+0000
TZNAME:UTC
DTSTART:20250101T000000
END:STANDARD
END:VTIMEZONE
BEGIN:VEVENT
DTSTART;TZID=UTC:20260212T160000
DTEND;TZID=UTC:20260212T180000
DTSTAMP:20260419T164113
CREATED:20260203T124815Z
LAST-MODIFIED:20260206T081231Z
UID:7110-1770912000-1770919200@kisfaludy.hu
SUMMARY:Farsangi koncert
DESCRIPTION:
URL:https://kisfaludy.hu/event/farsangi-koncert/
LOCATION:Kisfaludy Sándor Gimnázium\, Koll és AMI\, Mártírok útja 1-3.\, Sümeg\, Veszprém\, 8330\, Hungary
CATEGORIES:Zenesikola
END:VEVENT
END:VCALENDAR