BEGIN:VCALENDAR
VERSION:2.0
PRODID:-//kisfaludy.hu - ECPv6.15.17.1//NONSGML v1.0//EN
CALSCALE:GREGORIAN
METHOD:PUBLISH
X-WR-CALNAME:kisfaludy.hu
X-ORIGINAL-URL:https://kisfaludy.hu
X-WR-CALDESC:Események kisfaludy.hu
REFRESH-INTERVAL;VALUE=DURATION:PT1H
X-Robots-Tag:noindex
X-PUBLISHED-TTL:PT1H
BEGIN:VTIMEZONE
TZID:UTC
BEGIN:STANDARD
TZOFFSETFROM:+0000
TZOFFSETTO:+0000
TZNAME:UTC
DTSTART:20240101T000000
END:STANDARD
END:VTIMEZONE
BEGIN:VEVENT
DTSTART;TZID=UTC:20251218T163000
DTEND;TZID=UTC:20251218T190000
DTSTAMP:20260422T160132
CREATED:20251126T095613Z
LAST-MODIFIED:20251211T101132Z
UID:6792-1766075400-1766084400@kisfaludy.hu
SUMMARY:Karácsonyi koncert
DESCRIPTION:
URL:https://kisfaludy.hu/event/karacsonyi-koncert/
LOCATION:Kisfaludy Sándor Gimnázium\, Koll és AMI\, Mártírok útja 1-3.\, Sümeg\, Veszprém\, 8330\, Hungary
CATEGORIES:Zenesikola
END:VEVENT
END:VCALENDAR